BEGIN:VCALENDAR
VERSION:2.0
PRODID:-//www.creekstonechurch.com//NONSGML kigkonsult.se iCalcreator 2.39.
 1//
CALSCALE:GREGORIAN
METHOD:PUBLISH
UID:60befc19-3131-4d72-8074-0dc41e7b03af
X-WR-CALNAME:www.creekstonechurch.com
X-WR-CALDESC:www.creekstonechurch.com
X-WR-TIMEZONE:America/Los_Angeles
X-LIC-LOCATION:America/Los_Angeles
BEGIN:VEVENT
UID:a0c3eb05-512b-4b36-b309-8f740307b1ec
DTSTAMP:20260419T183423Z
CLASS:PUBLIC
DTSTART;TZID=America/Los_Angeles:20260419T100000
DTEND;TZID=America/Los_Angeles:20260419T120000
LOCATION:The Well
SUMMARY:Worship Service
TRANSP:OPAQUE
BEGIN:VALARM
ACTION:DISPLAY
DESCRIPTION:Worship Service
TRIGGER:-PT15M
END:VALARM
END:VEVENT
END:VCALENDAR
